{"text_format":"1","workbook":"xlsx","n_sheets":3,"sheets":["Tabell","Ark2","Datagrunnlag"],"not_rendered":{"charts":0,"images":0,"macros":1,"external_links":0,"defined_names":0,"comments":0,"pivot_tables":0},"unopened":[],"bounds":{"document_bytes":16777216,"sheet_cells":100000,"rows_first":2000,"rows_last":500,"rows_between":2000,"halvings":0,"cell_chars":16384,"cell_head_chars":4096},"cells_cut":0,"cells_raw":0,"read":"whole","date_system":"1900"}

{"sheet":"Tabell","index":0,"n_rows":26,"n_cols":27,"rows_kept":26,"cut":false,"hidden":false,"merged":[[2,23,2,24],[2,25,2,26]]}
[null,null,null,1.4,3,5,7,9,11,13,15,17,19,21,23,25,27,29,31,33,35,37]
[]
["Her ser du hvor mange stemmer det mangler på å ta flere mandater:",null,null,null,null,null,null,null,null,null,null,null,null,null,null,null,null,null,null,null,null,null,null,"Forrige valg",null,"Endringer"]
["Parti","Stemmer","Ant mand.",1,2,3,4,5,6,7,8,9,10,11,12,13,14,15,16,17,18,19,null,"Ant st.","Ant mand.","Ant st.","Ant mand."]
["A",{"$f":"Datagrunnlag!R19","v":581},{"$f":"19-COUNT(D5:V5)","v":8},{"$f":"IF(($B5*19/D$1+$B5/10000)>'Ark2'!$E$21,\"*\",'Ark2'!$E$20*D$1/19-$B5)","v":"*"},{"$f":"IF(($B5*19/E$1+$B5/10000)>'Ark2'!$E$21,\"*\",'Ark2'!$E$20*E$1/19-$B5)","v":"*"},{"$f":"IF(($B5*19/F$1+$B5/10000)>'Ark2'!$E$21,\"*\",'Ark2'!$E$20*F$1/19-$B5)","v":"*"},{"$f":"IF(($B5*19/G$1+$B5/10000)>'Ark2'!$E$21,\"*\",'Ark2'!$E$20*G$1/19-$B5)","v":"*"},{"$f":"IF(($B5*19/H$1+$B5/10000)>'Ark2'!$E$21,\"*\",'Ark2'!$E$20*H$1/19-$B5)","v":"*"},{"$f":"IF(($B5*19/I$1+$B5/10000)>'Ark2'!$E$21,\"*\",'Ark2'!$E$20*I$1/19-$B5)","v":"*"},{"$f":"IF(($B5*19/J$1+$B5/10000)>'Ark2'!$E$21,\"*\",'Ark2'!$E$20*J$1/19-$B5)","v":"*"},{"$f":"IF(($B5*19/K$1+$B5/10000)>'Ark2'!$E$21,\"*\",'Ark2'!$E$20*K$1/19-$B5)","v":"*"},{"$f":"IF(($B5*19/L$1+$B5/10000)>'Ark2'!$E$21,\"*\",'Ark2'!$E$20*L$1/19-$B5)","v":77.51865087719284},{"$f":"IF(($B5*19/M$1+$B5/10000)>'Ark2'!$E$21,\"*\",'Ark2'!$E$20*M$1/19-$B5)","v":154.99143333333325},{"$f":"IF(($B5*19/N$1+$B5/10000)>'Ark2'!$E$21,\"*\",'Ark2'!$E$20*N$1/19-$B5)","v":232.46421578947366},{"$f":"IF(($B5*19/O$1+$B5/10000)>'Ark2'!$E$21,\"*\",'Ark2'!$E$20*O$1/19-$B5)","v":309.93699824561406},{"$f":"IF(($B5*19/P$1+$B5/10000)>'Ark2'!$E$21,\"*\",'Ark2'!$E$20*P$1/19-$B5)","v":387.40978070175424},{"$f":"IF(($B5*19/Q$1+$B5/10000)>'Ark2'!$E$21,\"*\",'Ark2'!$E$20*Q$1/19-$B5)","v":464.88256315789454},{"$f":"IF(($B5*19/R$1+$B5/10000)>'Ark2'!$E$21,\"*\",'Ark2'!$E$20*R$1/19-$B5)","v":542.35534561403506},{"$f":"IF(($B5*19/S$1+$B5/10000)>'Ark2'!$E$21,\"*\",'Ark2'!$E$20*S$1/19-$B5)","v":619.82812807017535},{"$f":"IF(($B5*19/T$1+$B5/10000)>'Ark2'!$E$21,\"*\",'Ark2'!$E$20*T$1/19-$B5)","v":697.30091052631565},{"$f":"IF(($B5*19/U$1+$B5/10000)>'Ark2'!$E$21,\"*\",'Ark2'!$E$20*U$1/19-$B5)","v":774.77369298245594},{"$f":"IF(($B5*19/V$1+$B5/10000)>'Ark2'!$E$21,\"*\",'Ark2'!$E$20*V$1/19-$B5)","v":852.24647543859646},null,581,9,{"$f":"B5-X5","v":0},{"$f":"C5-Y5","v":-1}]
["SV",{"$f":"Datagrunnlag!R20","v":55},{"$f":"19-COUNT(D6:V6)","v":1},{"$f":"IF(($B6*19/D$1+$B6/10000)>'Ark2'!$E$21,\"*\",'Ark2'!$E$20*D$1/19-$B6)","v":"*"},{"$f":"IF(($B6*19/E$1+$B6/10000)>'Ark2'!$E$21,\"*\",'Ark2'!$E$20*E$1/19-$B6)","v":61.209173684210512},{"$f":"IF(($B6*19/F$1+$B6/10000)>'Ark2'!$E$21,\"*\",'Ark2'!$E$20*F$1/19-$B6)","v":138.68195614035085},{"$f":"IF(($B6*19/G$1+$B6/10000)>'Ark2'!$E$21,\"*\",'Ark2'!$E$20*G$1/19-$B6)","v":216.1547385964912},{"$f":"IF(($B6*19/H$1+$B6/10000)>'Ark2'!$E$21,\"*\",'Ark2'!$E$20*H$1/19-$B6)","v":293.62752105263155},{"$f":"IF(($B6*19/I$1+$B6/10000)>'Ark2'!$E$21,\"*\",'Ark2'!$E$20*I$1/19-$B6)","v":371.1003035087719},{"$f":"IF(($B6*19/J$1+$B6/10000)>'Ark2'!$E$21,\"*\",'Ark2'!$E$20*J$1/19-$B6)","v":448.5730859649122},{"$f":"IF(($B6*19/K$1+$B6/10000)>'Ark2'!$E$21,\"*\",'Ark2'!$E$20*K$1/19-$B6)","v":526.04586842105255},{"$f":"IF(($B6*19/L$1+$B6/10000)>'Ark2'!$E$21,\"*\",'Ark2'!$E$20*L$1/19-$B6)","v":603.51865087719284},{"$f":"IF(($B6*19/M$1+$B6/10000)>'Ark2'!$E$21,\"*\",'Ark2'!$E$20*M$1/19-$B6)","v":680.99143333333325},{"$f":"IF(($B6*19/N$1+$B6/10000)>'Ark2'!$E$21,\"*\",'Ark2'!$E$20*N$1/19-$B6)","v":758.46421578947366},{"$f":"IF(($B6*19/O$1+$B6/10000)>'Ark2'!$E$21,\"*\",'Ark2'!$E$20*O$1/19-$B6)","v":835.93699824561406},{"$f":"IF(($B6*19/P$1+$B6/10000)>'Ark2'!$E$21,\"*\",'Ark2'!$E$20*P$1/19-$B6)","v":913.40978070175424},{"$f":"IF(($B6*19/Q$1+$B6/10000)>'Ark2'!$E$21,\"*\",'Ark2'!$E$20*Q$1/19-$B6)","v":990.88256315789454},{"$f":"IF(($B6*19/R$1+$B6/10000)>'Ark2'!$E$21,\"*\",'Ark2'!$E$20*R$1/19-$B6)","v":1068.3553456140351},{"$f":"IF(($B6*19/S$1+$B6/10000)>'Ark2'!$E$21,\"*\",'Ark2'!$E$20*S$1/19-$B6)","v":1145.8281280701754},{"$f":"IF(($B6*19/T$1+$B6/10000)>'Ark2'!$E$21,\"*\",'Ark2'!$E$20*T$1/19-$B6)","v":1223.3009105263156},{"$f":"IF(($B6*19/U$1+$B6/10000)>'Ark2'!$E$21,\"*\",'Ark2'!$E$20*U$1/19-$B6)","v":1300.7736929824559},{"$f":"IF(($B6*19/V$1+$B6/10000)>'Ark2'!$E$21,\"*\",'Ark2'!$E$20*V$1/19-$B6)","v":1378.2464754385965},null,55,1,{"$f":"B6-X6","v":0},0]
["SP",{"$f":"Datagrunnlag!R21","v":190},2,{"$f":"IF(($B7*19/D$1+$B7/10000)>'Ark2'!$E$21,\"*\",'Ark2'!$E$20*D$1/19-$B7)","v":"*"},{"$f":"IF(($B7*19/E$1+$B7/10000)>'Ark2'!$E$21,\"*\",'Ark2'!$E$20*E$1/19-$B7)","v":"*"},{"$f":"IF(($B7*19/F$1+$B7/10000)>'Ark2'!$E$21,\"*\",'Ark2'!$E$20*F$1/19-$B7)","v":3.6819561403508487},{"$f":"IF(($B7*19/G$1+$B7/10000)>'Ark2'!$E$21,\"*\",'Ark2'!$E$20*G$1/19-$B7)","v":81.1547385964912},{"$f":"IF(($B7*19/H$1+$B7/10000)>'Ark2'!$E$21,\"*\",'Ark2'!$E$20*H$1/19-$B7)","v":158.62752105263155},{"$f":"IF(($B7*19/I$1+$B7/10000)>'Ark2'!$E$21,\"*\",'Ark2'!$E$20*I$1/19-$B7)","v":236.1003035087719},{"$f":"IF(($B7*19/J$1+$B7/10000)>'Ark2'!$E$21,\"*\",'Ark2'!$E$20*J$1/19-$B7)","v":313.5730859649122},{"$f":"IF(($B7*19/K$1+$B7/10000)>'Ark2'!$E$21,\"*\",'Ark2'!$E$20*K$1/19-$B7)","v":391.04586842105255},{"$f":"IF(($B7*19/L$1+$B7/10000)>'Ark2'!$E$21,\"*\",'Ark2'!$E$20*L$1/19-$B7)","v":468.51865087719284},{"$f":"IF(($B7*19/M$1+$B7/10000)>'Ark2'!$E$21,\"*\",'Ark2'!$E$20*M$1/19-$B7)","v":545.99143333333325},{"$f":"IF(($B7*19/N$1+$B7/10000)>'Ark2'!$E$21,\"*\",'Ark2'!$E$20*N$1/19-$B7)","v":623.46421578947366},{"$f":"IF(($B7*19/O$1+$B7/10000)>'Ark2'!$E$21,\"*\",'Ark2'!$E$20*O$1/19-$B7)","v":700.93699824561406},{"$f":"IF(($B7*19/P$1+$B7/10000)>'Ark2'!$E$21,\"*\",'Ark2'!$E$20*P$1/19-$B7)","v":778.40978070175424},{"$f":"IF(($B7*19/Q$1+$B7/10000)>'Ark2'!$E$21,\"*\",'Ark2'!$E$20*Q$1/19-$B7)","v":855.88256315789454},{"$f":"IF(($B7*19/R$1+$B7/10000)>'Ark2'!$E$21,\"*\",'Ark2'!$E$20*R$1/19-$B7)","v":933.35534561403506},{"$f":"IF(($B7*19/S$1+$B7/10000)>'Ark2'!$E$21,\"*\",'Ark2'!$E$20*S$1/19-$B7)","v":1010.8281280701754},{"$f":"IF(($B7*19/T$1+$B7/10000)>'Ark2'!$E$21,\"*\",'Ark2'!$E$20*T$1/19-$B7)","v":1088.3009105263156},{"$f":"IF(($B7*19/U$1+$B7/10000)>'Ark2'!$E$21,\"*\",'Ark2'!$E$20*U$1/19-$B7)","v":1165.7736929824559},{"$f":"IF(($B7*19/V$1+$B7/10000)>'Ark2'!$E$21,\"*\",'Ark2'!$E$20*V$1/19-$B7)","v":1243.2464754385965},null,190,3,0,-1]
["H",{"$f":"Datagrunnlag!R22","v":307},4,{"$f":"IF(($B8*19/D$1+$B8/10000)>'Ark2'!$E$21,\"*\",'Ark2'!$E$20*D$1/19-$B8)","v":"*"},{"$f":"IF(($B8*19/E$1+$B8/10000)>'Ark2'!$E$21,\"*\",'Ark2'!$E$20*E$1/19-$B8)","v":"*"},{"$f":"IF(($B8*19/F$1+$B8/10000)>'Ark2'!$E$21,\"*\",'Ark2'!$E$20*F$1/19-$B8)","v":"*"},{"$f":"IF(($B8*19/G$1+$B8/10000)>'Ark2'!$E$21,\"*\",'Ark2'!$E$20*G$1/19-$B8)","v":"*"},{"$f":"IF(($B8*19/H$1+$B8/10000)>'Ark2'!$E$21,\"*\",'Ark2'!$E$20*H$1/19-$B8)","v":41.62752105263155},{"$f":"IF(($B8*19/I$1+$B8/10000)>'Ark2'!$E$21,\"*\",'Ark2'!$E$20*I$1/19-$B8)","v":119.1003035087719},{"$f":"IF(($B8*19/J$1+$B8/10000)>'Ark2'!$E$21,\"*\",'Ark2'!$E$20*J$1/19-$B8)","v":196.5730859649122},{"$f":"IF(($B8*19/K$1+$B8/10000)>'Ark2'!$E$21,\"*\",'Ark2'!$E$20*K$1/19-$B8)","v":274.04586842105255},{"$f":"IF(($B8*19/L$1+$B8/10000)>'Ark2'!$E$21,\"*\",'Ark2'!$E$20*L$1/19-$B8)","v":351.51865087719284},{"$f":"IF(($B8*19/M$1+$B8/10000)>'Ark2'!$E$21,\"*\",'Ark2'!$E$20*M$1/19-$B8)","v":428.99143333333325},{"$f":"IF(($B8*19/N$1+$B8/10000)>'Ark2'!$E$21,\"*\",'Ark2'!$E$20*N$1/19-$B8)","v":506.46421578947366},{"$f":"IF(($B8*19/O$1+$B8/10000)>'Ark2'!$E$21,\"*\",'Ark2'!$E$20*O$1/19-$B8)","v":583.93699824561406},{"$f":"IF(($B8*19/P$1+$B8/10000)>'Ark2'!$E$21,\"*\",'Ark2'!$E$20*P$1/19-$B8)","v":661.40978070175424},{"$f":"IF(($B8*19/Q$1+$B8/10000)>'Ark2'!$E$21,\"*\",'Ark2'!$E$20*Q$1/19-$B8)","v":738.88256315789454},{"$f":"IF(($B8*19/R$1+$B8/10000)>'Ark2'!$E$21,\"*\",'Ark2'!$E$20*R$1/19-$B8)","v":816.35534561403506},{"$f":"IF(($B8*19/S$1+$B8/10000)>'Ark2'!$E$21,\"*\",'Ark2'!$E$20*S$1/19-$B8)","v":893.82812807017535},{"$f":"IF(($B8*19/T$1+$B8/10000)>'Ark2'!$E$21,\"*\",'Ark2'!$E$20*T$1/19-$B8)","v":971.30091052631565},{"$f":"IF(($B8*19/U$1+$B8/10000)>'Ark2'!$E$21,\"*\",'Ark2'!$E$20*U$1/19-$B8)","v":1048.7736929824559},{"$f":"IF(($B8*19/V$1+$B8/10000)>'Ark2'!$E$21,\"*\",'Ark2'!$E$20*V$1/19-$B8)","v":1126.2464754385965},null,307,5,0,-1]
["FRP",{"$f":"Datagrunnlag!R23","v":78},1,{"$f":"IF(($B9*19/D$1+$B9/10000)>'Ark2'!$E$21,\"*\",'Ark2'!$E$20*D$1/19-$B9)","v":"*"},{"$f":"IF(($B9*19/E$1+$B9/10000)>'Ark2'!$E$21,\"*\",'Ark2'!$E$20*E$1/19-$B9)","v":38.209173684210512},{"$f":"IF(($B9*19/F$1+$B9/10000)>'Ark2'!$E$21,\"*\",'Ark2'!$E$20*F$1/19-$B9)","v":115.68195614035085},{"$f":"IF(($B9*19/G$1+$B9/10000)>'Ark2'!$E$21,\"*\",'Ark2'!$E$20*G$1/19-$B9)","v":193.1547385964912},{"$f":"IF(($B9*19/H$1+$B9/10000)>'Ark2'!$E$21,\"*\",'Ark2'!$E$20*H$1/19-$B9)","v":270.62752105263155},{"$f":"IF(($B9*19/I$1+$B9/10000)>'Ark2'!$E$21,\"*\",'Ark2'!$E$20*I$1/19-$B9)","v":348.1003035087719},{"$f":"IF(($B9*19/J$1+$B9/10000)>'Ark2'!$E$21,\"*\",'Ark2'!$E$20*J$1/19-$B9)","v":425.5730859649122},{"$f":"IF(($B9*19/K$1+$B9/10000)>'Ark2'!$E$21,\"*\",'Ark2'!$E$20*K$1/19-$B9)","v":503.04586842105255},{"$f":"IF(($B9*19/L$1+$B9/10000)>'Ark2'!$E$21,\"*\",'Ark2'!$E$20*L$1/19-$B9)","v":580.51865087719284},{"$f":"IF(($B9*19/M$1+$B9/10000)>'Ark2'!$E$21,\"*\",'Ark2'!$E$20*M$1/19-$B9)","v":657.99143333333325},{"$f":"IF(($B9*19/N$1+$B9/10000)>'Ark2'!$E$21,\"*\",'Ark2'!$E$20*N$1/19-$B9)","v":735.46421578947366},{"$f":"IF(($B9*19/O$1+$B9/10000)>'Ark2'!$E$21,\"*\",'Ark2'!$E$20*O$1/19-$B9)","v":812.93699824561406},{"$f":"IF(($B9*19/P$1+$B9/10000)>'Ark2'!$E$21,\"*\",'Ark2'!$E$20*P$1/19-$B9)","v":890.40978070175424},{"$f":"IF(($B9*19/Q$1+$B9/10000)>'Ark2'!$E$21,\"*\",'Ark2'!$E$20*Q$1/19-$B9)","v":967.88256315789454},{"$f":"IF(($B9*19/R$1+$B9/10000)>'Ark2'!$E$21,\"*\",'Ark2'!$E$20*R$1/19-$B9)","v":1045.3553456140351},{"$f":"IF(($B9*19/S$1+$B9/10000)>'Ark2'!$E$21,\"*\",'Ark2'!$E$20*S$1/19-$B9)","v":1122.8281280701754},{"$f":"IF(($B9*19/T$1+$B9/10000)>'Ark2'!$E$21,\"*\",'Ark2'!$E$20*T$1/19-$B9)","v":1200.3009105263156},{"$f":"IF(($B9*19/U$1+$B9/10000)>'Ark2'!$E$21,\"*\",'Ark2'!$E$20*U$1/19-$B9)","v":1277.7736929824559},{"$f":"IF(($B9*19/V$1+$B9/10000)>'Ark2'!$E$21,\"*\",'Ark2'!$E$20*V$1/19-$B9)","v":1355.2464754385965},null,78,1,0,0]
["SANUV",{"$f":"Datagrunnlag!R24","v":89},1,{"$f":"IF(($B10*19/D$1+$B10/10000)>'Ark2'!$E$21,\"*\",'Ark2'!$E$20*D$1/19-$B10)","v":"*"},{"$f":"IF(($B10*19/E$1+$B10/10000)>'Ark2'!$E$21,\"*\",'Ark2'!$E$20*E$1/19-$B10)","v":27.209173684210512},{"$f":"IF(($B10*19/F$1+$B10/10000)>'Ark2'!$E$21,\"*\",'Ark2'!$E$20*F$1/19-$B10)","v":104.68195614035085},{"$f":"IF(($B10*19/G$1+$B10/10000)>'Ark2'!$E$21,\"*\",'Ark2'!$E$20*G$1/19-$B10)","v":182.1547385964912},{"$f":"IF(($B10*19/H$1+$B10/10000)>'Ark2'!$E$21,\"*\",'Ark2'!$E$20*H$1/19-$B10)","v":259.62752105263155},{"$f":"IF(($B10*19/I$1+$B10/10000)>'Ark2'!$E$21,\"*\",'Ark2'!$E$20*I$1/19-$B10)","v":337.1003035087719},{"$f":"IF(($B10*19/J$1+$B10/10000)>'Ark2'!$E$21,\"*\",'Ark2'!$E$20*J$1/19-$B10)","v":414.5730859649122},{"$f":"IF(($B10*19/K$1+$B10/10000)>'Ark2'!$E$21,\"*\",'Ark2'!$E$20*K$1/19-$B10)","v":492.04586842105255},{"$f":"IF(($B10*19/L$1+$B10/10000)>'Ark2'!$E$21,\"*\",'Ark2'!$E$20*L$1/19-$B10)","v":569.51865087719284},{"$f":"IF(($B10*19/M$1+$B10/10000)>'Ark2'!$E$21,\"*\",'Ark2'!$E$20*M$1/19-$B10)","v":646.99143333333325},{"$f":"IF(($B10*19/N$1+$B10/10000)>'Ark2'!$E$21,\"*\",'Ark2'!$E$20*N$1/19-$B10)","v":724.46421578947366},{"$f":"IF(($B10*19/O$1+$B10/10000)>'Ark2'!$E$21,\"*\",'Ark2'!$E$20*O$1/19-$B10)","v":801.93699824561406},{"$f":"IF(($B10*19/P$1+$B10/10000)>'Ark2'!$E$21,\"*\",'Ark2'!$E$20*P$1/19-$B10)","v":879.40978070175424},{"$f":"IF(($B10*19/Q$1+$B10/10000)>'Ark2'!$E$21,\"*\",'Ark2'!$E$20*Q$1/19-$B10)","v":956.88256315789454},{"$f":"IF(($B10*19/R$1+$B10/10000)>'Ark2'!$E$21,\"*\",'Ark2'!$E$20*R$1/19-$B10)","v":1034.3553456140351},{"$f":"IF(($B10*19/S$1+$B10/10000)>'Ark2'!$E$21,\"*\",'Ark2'!$E$20*S$1/19-$B10)","v":1111.8281280701754},{"$f":"IF(($B10*19/T$1+$B10/10000)>'Ark2'!$E$21,\"*\",'Ark2'!$E$20*T$1/19-$B10)","v":1189.3009105263156},{"$f":"IF(($B10*19/U$1+$B10/10000)>'Ark2'!$E$21,\"*\",'Ark2'!$E$20*U$1/19-$B10)","v":1266.7736929824559},{"$f":"IF(($B10*19/V$1+$B10/10000)>'Ark2'!$E$21,\"*\",'Ark2'!$E$20*V$1/19-$B10)","v":1344.2464754385965},null,89,1,0,0]
["FE",{"$f":"Datagrunnlag!R25","v":114},1,{"$f":"IF(($B11*19/D$1+$B11/10000)>'Ark2'!$E$21,\"*\",'Ark2'!$E$20*D$1/19-$B11)","v":"*"},{"$f":"IF(($B11*19/E$1+$B11/10000)>'Ark2'!$E$21,\"*\",'Ark2'!$E$20*E$1/19-$B11)","v":2.2091736842105121},{"$f":"IF(($B11*19/F$1+$B11/10000)>'Ark2'!$E$21,\"*\",'Ark2'!$E$20*F$1/19-$B11)","v":79.681956140350849},{"$f":"IF(($B11*19/G$1+$B11/10000)>'Ark2'!$E$21,\"*\",'Ark2'!$E$20*G$1/19-$B11)","v":157.1547385964912},{"$f":"IF(($B11*19/H$1+$B11/10000)>'Ark2'!$E$21,\"*\",'Ark2'!$E$20*H$1/19-$B11)","v":234.62752105263155},{"$f":"IF(($B11*19/I$1+$B11/10000)>'Ark2'!$E$21,\"*\",'Ark2'!$E$20*I$1/19-$B11)","v":312.1003035087719},{"$f":"IF(($B11*19/J$1+$B11/10000)>'Ark2'!$E$21,\"*\",'Ark2'!$E$20*J$1/19-$B11)","v":389.5730859649122},{"$f":"IF(($B11*19/K$1+$B11/10000)>'Ark2'!$E$21,\"*\",'Ark2'!$E$20*K$1/19-$B11)","v":467.04586842105255},{"$f":"IF(($B11*19/L$1+$B11/10000)>'Ark2'!$E$21,\"*\",'Ark2'!$E$20*L$1/19-$B11)","v":544.51865087719284},{"$f":"IF(($B11*19/M$1+$B11/10000)>'Ark2'!$E$21,\"*\",'Ark2'!$E$20*M$1/19-$B11)","v":621.99143333333325},{"$f":"IF(($B11*19/N$1+$B11/10000)>'Ark2'!$E$21,\"*\",'Ark2'!$E$20*N$1/19-$B11)","v":699.46421578947366},{"$f":"IF(($B11*19/O$1+$B11/10000)>'Ark2'!$E$21,\"*\",'Ark2'!$E$20*O$1/19-$B11)","v":776.93699824561406},{"$f":"IF(($B11*19/P$1+$B11/10000)>'Ark2'!$E$21,\"*\",'Ark2'!$E$20*P$1/19-$B11)","v":854.40978070175424},{"$f":"IF(($B11*19/Q$1+$B11/10000)>'Ark2'!$E$21,\"*\",'Ark2'!$E$20*Q$1/19-$B11)","v":931.88256315789454},{"$f":"IF(($B11*19/R$1+$B11/10000)>'Ark2'!$E$21,\"*\",'Ark2'!$E$20*R$1/19-$B11)","v":1009.3553456140351},{"$f":"IF(($B11*19/S$1+$B11/10000)>'Ark2'!$E$21,\"*\",'Ark2'!$E$20*S$1/19-$B11)","v":1086.8281280701754},{"$f":"IF(($B11*19/T$1+$B11/10000)>'Ark2'!$E$21,\"*\",'Ark2'!$E$20*T$1/19-$B11)","v":1164.3009105263156},{"$f":"IF(($B11*19/U$1+$B11/10000)>'Ark2'!$E$21,\"*\",'Ark2'!$E$20*U$1/19-$B11)","v":1241.7736929824559},{"$f":"IF(($B11*19/V$1+$B11/10000)>'Ark2'!$E$21,\"*\",'Ark2'!$E$20*V$1/19-$B11)","v":1319.2464754385965},null,114,2,0,-1]
["V",{"$f":"Datagrunnlag!R26","v":77},1,{"$f":"IF(($B12*19/D$1+$B12/10000)>'Ark2'!$E$21,\"*\",'Ark2'!$E$20*D$1/19-$B12)","v":"*"},{"$f":"IF(($B12*19/E$1+$B12/10000)>'Ark2'!$E$21,\"*\",'Ark2'!$E$20*E$1/19-$B12)","v":39.209173684210512},{"$f":"IF(($B12*19/F$1+$B12/10000)>'Ark2'!$E$21,\"*\",'Ark2'!$E$20*F$1/19-$B12)","v":116.68195614035085},{"$f":"IF(($B12*19/G$1+$B12/10000)>'Ark2'!$E$21,\"*\",'Ark2'!$E$20*G$1/19-$B12)","v":194.1547385964912},{"$f":"IF(($B12*19/H$1+$B12/10000)>'Ark2'!$E$21,\"*\",'Ark2'!$E$20*H$1/19-$B12)","v":271.62752105263155},{"$f":"IF(($B12*19/I$1+$B12/10000)>'Ark2'!$E$21,\"*\",'Ark2'!$E$20*I$1/19-$B12)","v":349.1003035087719},{"$f":"IF(($B12*19/J$1+$B12/10000)>'Ark2'!$E$21,\"*\",'Ark2'!$E$20*J$1/19-$B12)","v":426.5730859649122},{"$f":"IF(($B12*19/K$1+$B12/10000)>'Ark2'!$E$21,\"*\",'Ark2'!$E$20*K$1/19-$B12)","v":504.04586842105255},{"$f":"IF(($B12*19/L$1+$B12/10000)>'Ark2'!$E$21,\"*\",'Ark2'!$E$20*L$1/19-$B12)","v":581.51865087719284},{"$f":"IF(($B12*19/M$1+$B12/10000)>'Ark2'!$E$21,\"*\",'Ark2'!$E$20*M$1/19-$B12)","v":658.99143333333325},{"$f":"IF(($B12*19/N$1+$B12/10000)>'Ark2'!$E$21,\"*\",'Ark2'!$E$20*N$1/19-$B12)","v":736.46421578947366},{"$f":"IF(($B12*19/O$1+$B12/10000)>'Ark2'!$E$21,\"*\",'Ark2'!$E$20*O$1/19-$B12)","v":813.93699824561406},{"$f":"IF(($B12*19/P$1+$B12/10000)>'Ark2'!$E$21,\"*\",'Ark2'!$E$20*P$1/19-$B12)","v":891.40978070175424},{"$f":"IF(($B12*19/Q$1+$B12/10000)>'Ark2'!$E$21,\"*\",'Ark2'!$E$20*Q$1/19-$B12)","v":968.88256315789454},{"$f":"IF(($B12*19/R$1+$B12/10000)>'Ark2'!$E$21,\"*\",'Ark2'!$E$20*R$1/19-$B12)","v":1046.3553456140351},{"$f":"IF(($B12*19/S$1+$B12/10000)>'Ark2'!$E$21,\"*\",'Ark2'!$E$20*S$1/19-$B12)","v":1123.8281280701754},{"$f":"IF(($B12*19/T$1+$B12/10000)>'Ark2'!$E$21,\"*\",'Ark2'!$E$20*T$1/19-$B12)","v":1201.3009105263156},{"$f":"IF(($B12*19/U$1+$B12/10000)>'Ark2'!$E$21,\"*\",'Ark2'!$E$20*U$1/19-$B12)","v":1278.7736929824559},{"$f":"IF(($B12*19/V$1+$B12/10000)>'Ark2'!$E$21,\"*\",'Ark2'!$E$20*V$1/19-$B12)","v":1356.2464754385965},null,77,1,0,0]
[null,{"$f":"SUM(B5:B12)","v":1491},{"$f":"SUM(C5:C12)","v":19},null,null,null,null,null,null,null,null,null,null,null,null,null,null,null,null,null,null,null,null,1491,23,0,-4]
[]
[]
["Her ser du hvor trygge mandatene er:"]
["Parti","Stemmer","Ant mand.",1,2,3,4,5,6,7,8,9,10,11,12,13,14,15,16,17,18,19]
["A",{"$f":"B5","v":581},{"$f":"COUNT(D18:N18)","v":8},{"$f":"IF(D5=\"*\",-('Ark2'!$E$21*D$1/19-$B18),\"\")","v":527.79859999999996},{"$f":"IF(E5=\"*\",-('Ark2'!$E$21*E$1/19-$B18),\"\")","v":466.99700000000001},{"$f":"IF(F5=\"*\",-('Ark2'!$E$21*F$1/19-$B18),\"\")","v":390.995},{"$f":"IF(G5=\"*\",-('Ark2'!$E$21*G$1/19-$B18),\"\")","v":314.99299999999999},{"$f":"IF(H5=\"*\",-('Ark2'!$E$21*H$1/19-$B18),\"\")","v":238.99099999999999},{"$f":"IF(I5=\"*\",-('Ark2'!$E$21*I$1/19-$B18),\"\")","v":162.98900000000003},{"$f":"IF(J5=\"*\",-('Ark2'!$E$21*J$1/19-$B18),\"\")","v":86.987000000000023},{"$f":"IF(K5=\"*\",-('Ark2'!$E$21*K$1/19-$B18),\"\")","v":10.985000000000014},{"$f":"IF(L5=\"*\",-('Ark2'!$E$21*L$1/19-$B18),\"\")","v":""},{"$f":"IF(M5=\"*\",-('Ark2'!$E$21*M$1/19-$B18),\"\")","v":""},{"$f":"IF(N5=\"*\",-('Ark2'!$E$21*N$1/19-$B18),\"\")","v":""},{"$f":"IF(O5=\"*\",-('Ark2'!$E$21*O$1/19-$B18),\"\")","v":""},{"$f":"IF(P5=\"*\",-('Ark2'!$E$21*P$1/19-$B18),\"\")","v":""},{"$f":"IF(Q5=\"*\",-('Ark2'!$E$21*Q$1/19-$B18),\"\")","v":""},{"$f":"IF(R5=\"*\",-('Ark2'!$E$21*R$1/19-$B18),\"\")","v":""},{"$f":"IF(S5=\"*\",-('Ark2'!$E$21*S$1/19-$B18),\"\")","v":""},{"$f":"IF(T5=\"*\",-('Ark2'!$E$21*T$1/19-$B18),\"\")","v":""},{"$f":"IF(U5=\"*\",-('Ark2'!$E$21*U$1/19-$B18),\"\")","v":""},{"$f":"IF(V5=\"*\",-('Ark2'!$E$21*V$1/19-$B18),\"\")","v":""}]
["SV",{"$f":"B6","v":55},{"$f":"COUNT(D19:N19)","v":1},{"$f":"IF(D6=\"*\",-('Ark2'!$E$21*D$1/19-$B19),\"\")","v":1.7986000000000004},{"$f":"IF(E6=\"*\",-('Ark2'!$E$21*E$1/19-$B19),\"\")","v":""},{"$f":"IF(F6=\"*\",-('Ark2'!$E$21*F$1/19-$B19),\"\")","v":""},{"$f":"IF(G6=\"*\",-('Ark2'!$E$21*G$1/19-$B19),\"\")","v":""},{"$f":"IF(H6=\"*\",-('Ark2'!$E$21*H$1/19-$B19),\"\")","v":""},{"$f":"IF(I6=\"*\",-('Ark2'!$E$21*I$1/19-$B19),\"\")","v":""},{"$f":"IF(J6=\"*\",-('Ark2'!$E$21*J$1/19-$B19),\"\")","v":""},{"$f":"IF(K6=\"*\",-('Ark2'!$E$21*K$1/19-$B19),\"\")","v":""},{"$f":"IF(L6=\"*\",-('Ark2'!$E$21*L$1/19-$B19),\"\")","v":""},{"$f":"IF(M6=\"*\",-('Ark2'!$E$21*M$1/19-$B19),\"\")","v":""},{"$f":"IF(N6=\"*\",-('Ark2'!$E$21*N$1/19-$B19),\"\")","v":""},{"$f":"IF(O6=\"*\",-('Ark2'!$E$21*O$1/19-$B19),\"\")","v":""},{"$f":"IF(P6=\"*\",-('Ark2'!$E$21*P$1/19-$B19),\"\")","v":""},{"$f":"IF(Q6=\"*\",-('Ark2'!$E$21*Q$1/19-$B19),\"\")","v":""},{"$f":"IF(R6=\"*\",-('Ark2'!$E$21*R$1/19-$B19),\"\")","v":""},{"$f":"IF(S6=\"*\",-('Ark2'!$E$21*S$1/19-$B19),\"\")","v":""},{"$f":"IF(T6=\"*\",-('Ark2'!$E$21*T$1/19-$B19),\"\")","v":""},{"$f":"IF(U6=\"*\",-('Ark2'!$E$21*U$1/19-$B19),\"\")","v":""},{"$f":"IF(V6=\"*\",-('Ark2'!$E$21*V$1/19-$B19),\"\")","v":""}]
["SP",190,2,{"$f":"IF(D7=\"*\",-('Ark2'!$E$21*D$1/19-$B20),\"\")","v":136.79859999999999},{"$f":"IF(E7=\"*\",-('Ark2'!$E$21*E$1/19-$B20),\"\")","v":75.997000000000014},{"$f":"IF(F7=\"*\",-('Ark2'!$E$21*F$1/19-$B20),\"\")","v":""},{"$f":"IF(G7=\"*\",-('Ark2'!$E$21*G$1/19-$B20),\"\")","v":""},{"$f":"IF(H7=\"*\",-('Ark2'!$E$21*H$1/19-$B20),\"\")","v":""},{"$f":"IF(I7=\"*\",-('Ark2'!$E$21*I$1/19-$B20),\"\")","v":""},{"$f":"IF(J7=\"*\",-('Ark2'!$E$21*J$1/19-$B20),\"\")","v":""},{"$f":"IF(K7=\"*\",-('Ark2'!$E$21*K$1/19-$B20),\"\")","v":""},{"$f":"IF(L7=\"*\",-('Ark2'!$E$21*L$1/19-$B20),\"\")","v":""},{"$f":"IF(M7=\"*\",-('Ark2'!$E$21*M$1/19-$B20),\"\")","v":""},{"$f":"IF(N7=\"*\",-('Ark2'!$E$21*N$1/19-$B20),\"\")","v":""},{"$f":"IF(O7=\"*\",-('Ark2'!$E$21*O$1/19-$B20),\"\")","v":""},{"$f":"IF(P7=\"*\",-('Ark2'!$E$21*P$1/19-$B20),\"\")","v":""},{"$f":"IF(Q7=\"*\",-('Ark2'!$E$21*Q$1/19-$B20),\"\")","v":""},{"$f":"IF(R7=\"*\",-('Ark2'!$E$21*R$1/19-$B20),\"\")","v":""},{"$f":"IF(S7=\"*\",-('Ark2'!$E$21*S$1/19-$B20),\"\")","v":""},{"$f":"IF(T7=\"*\",-('Ark2'!$E$21*T$1/19-$B20),\"\")","v":""},{"$f":"IF(U7=\"*\",-('Ark2'!$E$21*U$1/19-$B20),\"\")","v":""},{"$f":"IF(V7=\"*\",-('Ark2'!$E$21*V$1/19-$B20),\"\")","v":""}]
["H",307,4,{"$f":"IF(D8=\"*\",-('Ark2'!$E$21*D$1/19-$B21),\"\")","v":253.79859999999999},{"$f":"IF(E8=\"*\",-('Ark2'!$E$21*E$1/19-$B21),\"\")","v":192.99700000000001},{"$f":"IF(F8=\"*\",-('Ark2'!$E$21*F$1/19-$B21),\"\")","v":116.99499999999998},{"$f":"IF(G8=\"*\",-('Ark2'!$E$21*G$1/19-$B21),\"\")","v":40.992999999999995},{"$f":"IF(H8=\"*\",-('Ark2'!$E$21*H$1/19-$B21),\"\")","v":""},{"$f":"IF(I8=\"*\",-('Ark2'!$E$21*I$1/19-$B21),\"\")","v":""},{"$f":"IF(J8=\"*\",-('Ark2'!$E$21*J$1/19-$B21),\"\")","v":""},{"$f":"IF(K8=\"*\",-('Ark2'!$E$21*K$1/19-$B21),\"\")","v":""},{"$f":"IF(L8=\"*\",-('Ark2'!$E$21*L$1/19-$B21),\"\")","v":""},{"$f":"IF(M8=\"*\",-('Ark2'!$E$21*M$1/19-$B21),\"\")","v":""},{"$f":"IF(N8=\"*\",-('Ark2'!$E$21*N$1/19-$B21),\"\")","v":""},{"$f":"IF(O8=\"*\",-('Ark2'!$E$21*O$1/19-$B21),\"\")","v":""},{"$f":"IF(P8=\"*\",-('Ark2'!$E$21*P$1/19-$B21),\"\")","v":""},{"$f":"IF(Q8=\"*\",-('Ark2'!$E$21*Q$1/19-$B21),\"\")","v":""},{"$f":"IF(R8=\"*\",-('Ark2'!$E$21*R$1/19-$B21),\"\")","v":""},{"$f":"IF(S8=\"*\",-('Ark2'!$E$21*S$1/19-$B21),\"\")","v":""},{"$f":"IF(T8=\"*\",-('Ark2'!$E$21*T$1/19-$B21),\"\")","v":""},{"$f":"IF(U8=\"*\",-('Ark2'!$E$21*U$1/19-$B21),\"\")","v":""},{"$f":"IF(V8=\"*\",-('Ark2'!$E$21*V$1/19-$B21),\"\")","v":""}]
["FRP",78,1,{"$f":"IF(D9=\"*\",-('Ark2'!$E$21*D$1/19-$B22),\"\")","v":24.7986},{"$f":"IF(E9=\"*\",-('Ark2'!$E$21*E$1/19-$B22),\"\")","v":""},{"$f":"IF(F9=\"*\",-('Ark2'!$E$21*F$1/19-$B22),\"\")","v":""},{"$f":"IF(G9=\"*\",-('Ark2'!$E$21*G$1/19-$B22),\"\")","v":""},{"$f":"IF(H9=\"*\",-('Ark2'!$E$21*H$1/19-$B22),\"\")","v":""},{"$f":"IF(I9=\"*\",-('Ark2'!$E$21*I$1/19-$B22),\"\")","v":""},{"$f":"IF(J9=\"*\",-('Ark2'!$E$21*J$1/19-$B22),\"\")","v":""},{"$f":"IF(K9=\"*\",-('Ark2'!$E$21*K$1/19-$B22),\"\")","v":""},{"$f":"IF(L9=\"*\",-('Ark2'!$E$21*L$1/19-$B22),\"\")","v":""},{"$f":"IF(M9=\"*\",-('Ark2'!$E$21*M$1/19-$B22),\"\")","v":""},{"$f":"IF(N9=\"*\",-('Ark2'!$E$21*N$1/19-$B22),\"\")","v":""},{"$f":"IF(O9=\"*\",-('Ark2'!$E$21*O$1/19-$B22),\"\")","v":""},{"$f":"IF(P9=\"*\",-('Ark2'!$E$21*P$1/19-$B22),\"\")","v":""},{"$f":"IF(Q9=\"*\",-('Ark2'!$E$21*Q$1/19-$B22),\"\")","v":""},{"$f":"IF(R9=\"*\",-('Ark2'!$E$21*R$1/19-$B22),\"\")","v":""},{"$f":"IF(S9=\"*\",-('Ark2'!$E$21*S$1/19-$B22),\"\")","v":""},{"$f":"IF(T9=\"*\",-('Ark2'!$E$21*T$1/19-$B22),\"\")","v":""},{"$f":"IF(U9=\"*\",-('Ark2'!$E$21*U$1/19-$B22),\"\")","v":""},{"$f":"IF(V9=\"*\",-('Ark2'!$E$21*V$1/19-$B22),\"\")","v":""}]
["SANUV",89,1,{"$f":"IF(D10=\"*\",-('Ark2'!$E$21*D$1/19-$B23),\"\")","v":35.7986},{"$f":"IF(E10=\"*\",-('Ark2'!$E$21*E$1/19-$B23),\"\")","v":""},{"$f":"IF(F10=\"*\",-('Ark2'!$E$21*F$1/19-$B23),\"\")","v":""},{"$f":"IF(G10=\"*\",-('Ark2'!$E$21*G$1/19-$B23),\"\")","v":""},{"$f":"IF(H10=\"*\",-('Ark2'!$E$21*H$1/19-$B23),\"\")","v":""},{"$f":"IF(I10=\"*\",-('Ark2'!$E$21*I$1/19-$B23),\"\")","v":""},{"$f":"IF(J10=\"*\",-('Ark2'!$E$21*J$1/19-$B23),\"\")","v":""},{"$f":"IF(K10=\"*\",-('Ark2'!$E$21*K$1/19-$B23),\"\")","v":""},{"$f":"IF(L10=\"*\",-('Ark2'!$E$21*L$1/19-$B23),\"\")","v":""},{"$f":"IF(M10=\"*\",-('Ark2'!$E$21*M$1/19-$B23),\"\")","v":""},{"$f":"IF(N10=\"*\",-('Ark2'!$E$21*N$1/19-$B23),\"\")","v":""},{"$f":"IF(O10=\"*\",-('Ark2'!$E$21*O$1/19-$B23),\"\")","v":""},{"$f":"IF(P10=\"*\",-('Ark2'!$E$21*P$1/19-$B23),\"\")","v":""},{"$f":"IF(Q10=\"*\",-('Ark2'!$E$21*Q$1/19-$B23),\"\")","v":""},{"$f":"IF(R10=\"*\",-('Ark2'!$E$21*R$1/19-$B23),\"\")","v":""},{"$f":"IF(S10=\"*\",-('Ark2'!$E$21*S$1/19-$B23),\"\")","v":""},{"$f":"IF(T10=\"*\",-('Ark2'!$E$21*T$1/19-$B23),\"\")","v":""},{"$f":"IF(U10=\"*\",-('Ark2'!$E$21*U$1/19-$B23),\"\")","v":""},{"$f":"IF(V10=\"*\",-('Ark2'!$E$21*V$1/19-$B23),\"\")","v":""}]
["FE",114,1,{"$f":"IF(D11=\"*\",-('Ark2'!$E$21*D$1/19-$B24),\"\")","v":60.7986},{"$f":"IF(E11=\"*\",-('Ark2'!$E$21*E$1/19-$B24),\"\")","v":""},{"$f":"IF(F11=\"*\",-('Ark2'!$E$21*F$1/19-$B24),\"\")","v":""},{"$f":"IF(G11=\"*\",-('Ark2'!$E$21*G$1/19-$B24),\"\")","v":""},{"$f":"IF(H11=\"*\",-('Ark2'!$E$21*H$1/19-$B24),\"\")","v":""},{"$f":"IF(I11=\"*\",-('Ark2'!$E$21*I$1/19-$B24),\"\")","v":""},{"$f":"IF(J11=\"*\",-('Ark2'!$E$21*J$1/19-$B24),\"\")","v":""},{"$f":"IF(K11=\"*\",-('Ark2'!$E$21*K$1/19-$B24),\"\")","v":""},{"$f":"IF(L11=\"*\",-('Ark2'!$E$21*L$1/19-$B24),\"\")","v":""},{"$f":"IF(M11=\"*\",-('Ark2'!$E$21*M$1/19-$B24),\"\")","v":""},{"$f":"IF(N11=\"*\",-('Ark2'!$E$21*N$1/19-$B24),\"\")","v":""},{"$f":"IF(O11=\"*\",-('Ark2'!$E$21*O$1/19-$B24),\"\")","v":""},{"$f":"IF(P11=\"*\",-('Ark2'!$E$21*P$1/19-$B24),\"\")","v":""},{"$f":"IF(Q11=\"*\",-('Ark2'!$E$21*Q$1/19-$B24),\"\")","v":""},{"$f":"IF(R11=\"*\",-('Ark2'!$E$21*R$1/19-$B24),\"\")","v":""},{"$f":"IF(S11=\"*\",-('Ark2'!$E$21*S$1/19-$B24),\"\")","v":""},{"$f":"IF(T11=\"*\",-('Ark2'!$E$21*T$1/19-$B24),\"\")","v":""},{"$f":"IF(U11=\"*\",-('Ark2'!$E$21*U$1/19-$B24),\"\")","v":""},{"$f":"IF(V11=\"*\",-('Ark2'!$E$21*V$1/19-$B24),\"\")","v":""}]
["V",77,1,{"$f":"IF(D12=\"*\",-('Ark2'!$E$21*D$1/19-$B25),\"\")","v":23.7986},{"$f":"IF(E12=\"*\",-('Ark2'!$E$21*E$1/19-$B25),\"\")","v":""},{"$f":"IF(F12=\"*\",-('Ark2'!$E$21*F$1/19-$B25),\"\")","v":""},{"$f":"IF(G12=\"*\",-('Ark2'!$E$21*G$1/19-$B25),\"\")","v":""},{"$f":"IF(H12=\"*\",-('Ark2'!$E$21*H$1/19-$B25),\"\")","v":""},{"$f":"IF(I12=\"*\",-('Ark2'!$E$21*I$1/19-$B25),\"\")","v":""},{"$f":"IF(J12=\"*\",-('Ark2'!$E$21*J$1/19-$B25),\"\")","v":""},{"$f":"IF(K12=\"*\",-('Ark2'!$E$21*K$1/19-$B25),\"\")","v":""},{"$f":"IF(L12=\"*\",-('Ark2'!$E$21*L$1/19-$B25),\"\")","v":""},{"$f":"IF(M12=\"*\",-('Ark2'!$E$21*M$1/19-$B25),\"\")","v":""},{"$f":"IF(N12=\"*\",-('Ark2'!$E$21*N$1/19-$B25),\"\")","v":""},{"$f":"IF(O12=\"*\",-('Ark2'!$E$21*O$1/19-$B25),\"\")","v":""},{"$f":"IF(P12=\"*\",-('Ark2'!$E$21*P$1/19-$B25),\"\")","v":""},{"$f":"IF(Q12=\"*\",-('Ark2'!$E$21*Q$1/19-$B25),\"\")","v":""},{"$f":"IF(R12=\"*\",-('Ark2'!$E$21*R$1/19-$B25),\"\")","v":""},{"$f":"IF(S12=\"*\",-('Ark2'!$E$21*S$1/19-$B25),\"\")","v":""},{"$f":"IF(T12=\"*\",-('Ark2'!$E$21*T$1/19-$B25),\"\")","v":""},{"$f":"IF(U12=\"*\",-('Ark2'!$E$21*U$1/19-$B25),\"\")","v":""},{"$f":"IF(V12=\"*\",-('Ark2'!$E$21*V$1/19-$B25),\"\")","v":""}]
[null,{"$f":"SUM(B18:B25)","v":1491},{"$f":"SUM(C18:C25)","v":19}]

{"sheet":"Ark2","index":1,"n_rows":185,"n_cols":5,"rows_kept":185,"cut":false,"hidden":false,"merged":[]}
["Parti","Nr","St","Dt","Kvotient"]
["A",1,{"$f":"Tabell!$B$5","v":581},1.4,{"$f":"C2*19/D2+C2/10000","v":7885.0581000000011}]
["H",1,{"$f":"Tabell!$B$8","v":307},1.4,{"$f":"C3*19/D3+C3/10000","v":4166.4592714285718}]
["A",2,{"$f":"Tabell!$B$5","v":581},3,{"$f":"C4*19/D4+C4/10000","v":3679.7247666666667}]
["SP",1,{"$f":"Tabell!$B$7","v":190},1.4,{"$f":"C5*19/D5+C5/10000","v":2578.5904285714287}]
["A",3,{"$f":"Tabell!$B$5","v":581},5,{"$f":"C6*19/D6+C6/10000","v":2207.8581000000004}]
["H",2,{"$f":"Tabell!$B$8","v":307},3,{"$f":"C7*19/D7+C7/10000","v":1944.3640333333333}]
["A",4,{"$f":"Tabell!$B$5","v":581},7,{"$f":"C8*19/D8+C8/10000","v":1577.0581}]
["Fe",1,{"$f":"Tabell!$B$11","v":114},1.4,{"$f":"C9*19/D9+C9/10000","v":1547.1542571428574}]
["A",5,{"$f":"Tabell!$B$5","v":581},9,{"$f":"C10*19/D10+C10/10000","v":1226.6136555555556}]
["SANUV",1,{"$f":"Tabell!$B$10","v":89},1.4,{"$f":"C11*19/D11+C11/10000","v":1207.8660428571429}]
["SP",2,{"$f":"Tabell!$B$7","v":190},3,{"$f":"C12*19/D12+C12/10000","v":1203.3523333333333}]
["H",3,{"$f":"Tabell!$B$8","v":307},5,{"$f":"C13*19/D13+C13/10000","v":1166.6306999999999}]
["FrP",1,{"$f":"Tabell!$B$9","v":78},1.4,{"$f":"C14*19/D14+C14/10000","v":1058.5792285714288}]
["V",1,{"$f":"Tabell!$B$12","v":77},1.4,{"$f":"C15*19/D15+C15/10000","v":1045.0077000000001}]
["A",6,{"$f":"Tabell!$B$5","v":581},11,{"$f":"C16*19/D16+C16/10000","v":1003.6035545454545}]
["A",7,{"$f":"Tabell!$B$5","v":581},13,{"$f":"C17*19/D17+C17/10000","v":849.21194615384616}]
["H",4,{"$f":"Tabell!$B$8","v":307},7,{"$f":"C18*19/D18+C18/10000","v":833.31641428571436}]
["SV",1,{"$f":"Tabell!$B$6","v":55},1.4,{"$f":"C19*19/D19+C19/10000","v":746.43407142857143}]
["A",8,{"$f":"Tabell!$B$5","v":581},15,{"$f":"C20*19/D20+C20/10000","v":735.99143333333325}]
["SP",3,{"$f":"Tabell!$B$7","v":190},5,{"$f":"C21*19/D21+C21/10000","v":722.01900000000001}]
["Fe",2,{"$f":"Tabell!$B$11","v":114},3,{"$f":"C22*19/D22+C22/10000","v":722.01139999999998}]
["A",9,{"$f":"Tabell!$B$5","v":581},17,{"$f":"C23*19/D23+C23/10000","v":649.41104117647058}]
["H",5,{"$f":"Tabell!$B$8","v":307},9,{"$f":"C24*19/D24+C24/10000","v":648.14181111111111}]
["A",10,{"$f":"Tabell!$B$5","v":581},19,{"$f":"C25*19/D25+C25/10000","v":581.05809999999997}]
["SANUV",2,{"$f":"Tabell!$B$10","v":89},3,{"$f":"C26*19/D26+C26/10000","v":563.67556666666667}]
["H",6,{"$f":"Tabell!$B$8","v":307},11,{"$f":"C27*19/D27+C27/10000","v":530.30342727272728}]
["A",11,{"$f":"Tabell!$B$5","v":581},21,{"$f":"C28*19/D28+C28/10000","v":525.7247666666666}]
["SP",4,{"$f":"Tabell!$B$7","v":190},7,{"$f":"C29*19/D29+C29/10000","v":515.73328571428567}]
["FrP",2,{"$f":"Tabell!$B$9","v":78},3,{"$f":"C30*19/D30+C30/10000","v":494.00779999999997}]
["V",2,{"$f":"Tabell!$B$12","v":77},3,{"$f":"C31*19/D31+C31/10000","v":487.67436666666669}]
["A",12,{"$f":"Tabell!$B$5","v":581},23,{"$f":"C32*19/D32+C32/10000","v":480.01462173913046}]
["H",7,{"$f":"Tabell!$B$8","v":307},13,{"$f":"C33*19/D33+C33/10000","v":448.7230076923077}]
["A",13,{"$f":"Tabell!$B$5","v":581},25,{"$f":"C34*19/D34+C34/10000","v":441.61810000000003}]
["Fe",3,{"$f":"Tabell!$B$11","v":114},5,{"$f":"C35*19/D35+C35/10000","v":433.21139999999997}]
["A",14,{"$f":"Tabell!$B$5","v":581},27,{"$f":"C36*19/D36+C36/10000","v":408.90995185185187}]
["SP",5,{"$f":"Tabell!$B$7","v":190},9,{"$f":"C37*19/D37+C37/10000","v":401.13011111111109}]
["H",8,{"$f":"Tabell!$B$8","v":307},15,{"$f":"C38*19/D38+C38/10000","v":388.8973666666667}]
["A",15,{"$f":"Tabell!$B$5","v":581},29,{"$f":"C39*19/D39+C39/10000","v":380.71327241379311}]
["A",16,{"$f":"Tabell!$B$5","v":581},31,{"$f":"C40*19/D40+C40/10000","v":356.15487419354844}]
["SV",2,{"$f":"Tabell!$B$6","v":55},3,{"$f":"C41*19/D41+C41/10000","v":348.3388333333333}]
["H",9,{"$f":"Tabell!$B$8","v":307},17,{"$f":"C42*19/D42+C42/10000","v":343.14834705882356}]
["SANUV",3,{"$f":"Tabell!$B$10","v":89},5,{"$f":"C43*19/D43+C43/10000","v":338.20889999999997}]
["A",17,{"$f":"Tabell!$B$5","v":581},33,{"$f":"C44*19/D44+C44/10000","v":334.57325151515153}]
["SP",6,{"$f":"Tabell!$B$7","v":190},11,{"$f":"C45*19/D45+C45/10000","v":328.20081818181819}]
["A",18,{"$f":"Tabell!$B$5","v":581},35,{"$f":"C46*19/D46+C46/10000","v":315.4581}]
["Fe",4,{"$f":"Tabell!$B$11","v":114},7,{"$f":"C47*19/D47+C47/10000","v":309.43997142857143}]
["H",10,{"$f":"Tabell!$B$8","v":307},19,{"$f":"C48*19/D48+C48/10000","v":307.03070000000002}]
["A",19,{"$f":"Tabell!$B$5","v":581},37,{"$f":"C49*19/D49+C49/10000","v":298.40945135135138}]
["FrP",3,{"$f":"Tabell!$B$9","v":78},5,{"$f":"C50*19/D50+C50/10000","v":296.40779999999995}]
["V",3,{"$f":"Tabell!$B$12","v":77},5,{"$f":"C51*19/D51+C51/10000","v":292.60770000000002}]
["A",20,{"$f":"Tabell!$B$5","v":581},39,{"$f":"C52*19/D52+C52/10000","v":283.10938205128207}]
["H",11,{"$f":"Tabell!$B$8","v":307},21,{"$f":"C53*19/D53+C53/10000","v":277.79260476190478}]
["SP",7,{"$f":"Tabell!$B$7","v":190},13,{"$f":"C54*19/D54+C54/10000","v":277.71130769230768}]
["A",21,{"$f":"Tabell!$B$5","v":581},41,{"$f":"C55*19/D55+C55/10000","v":269.30200243902442}]
["A",22,{"$f":"Tabell!$B$5","v":581},43,{"$f":"C56*19/D56+C56/10000","v":256.77903023255817}]
["H",12,{"$f":"Tabell!$B$8","v":307},23,{"$f":"C57*19/D57+C57/10000","v":253.6393956521739}]
["A",23,{"$f":"Tabell!$B$5","v":581},45,{"$f":"C58*19/D58+C58/10000","v":245.3692111111111}]
["SANUV",4,{"$f":"Tabell!$B$10","v":89},7,{"$f":"C59*19/D59+C59/10000","v":241.58032857142859}]
["SP",8,{"$f":"Tabell!$B$7","v":190},15,{"$f":"C60*19/D60+C60/10000","v":240.68566666666666}]
["Fe",5,{"$f":"Tabell!$B$11","v":114},9,{"$f":"C61*19/D61+C61/10000","v":240.67806666666667}]
["H",13,{"$f":"Tabell!$B$8","v":307},25,{"$f":"C62*19/D62+C62/10000","v":233.35069999999999}]
["H",14,{"$f":"Tabell!$B$8","v":307},27,{"$f":"C63*19/D63+C63/10000","v":216.06773703703703}]
["SP",9,{"$f":"Tabell!$B$7","v":190},17,{"$f":"C64*19/D64+C64/10000","v":212.37194117647059}]
["FrP",4,{"$f":"Tabell!$B$9","v":78},7,{"$f":"C65*19/D65+C65/10000","v":211.72208571428573}]
["V",4,{"$f":"Tabell!$B$12","v":77},7,{"$f":"C66*19/D66+C66/10000","v":209.0077}]
["SV",3,{"$f":"Tabell!$B$6","v":55},5,{"$f":"C67*19/D67+C67/10000","v":209.00550000000001}]
["H",15,{"$f":"Tabell!$B$8","v":307},29,{"$f":"C68*19/D68+C68/10000","v":201.16863103448276}]
["Fe",6,{"$f":"Tabell!$B$11","v":114},11,{"$f":"C69*19/D69+C69/10000","v":196.92049090909092}]
["SP",10,{"$f":"Tabell!$B$7","v":190},19,{"$f":"C70*19/D70+C70/10000","v":190.01900000000001}]
["H",16,{"$f":"Tabell!$B$8","v":307},31,{"$f":"C71*19/D71+C71/10000","v":188.19199032258064}]
["SANUV",5,{"$f":"Tabell!$B$10","v":89},9,{"$f":"C72*19/D72+C72/10000","v":187.8977888888889}]
["H",17,{"$f":"Tabell!$B$8","v":307},33,{"$f":"C73*19/D73+C73/10000","v":176.78827575757575}]
["SP",11,{"$f":"Tabell!$B$7","v":190},21,{"$f":"C74*19/D74+C74/10000","v":171.9237619047619}]
["H",18,{"$f":"Tabell!$B$8","v":307},35,{"$f":"C75*19/D75+C75/10000","v":166.68784285714284}]
["Fe",7,{"$f":"Tabell!$B$11","v":114},13,{"$f":"C76*19/D76+C76/10000","v":166.62678461538462}]
["FrP",5,{"$f":"Tabell!$B$9","v":78},9,{"$f":"C77*19/D77+C77/10000","v":164.67446666666666}]
["V",5,{"$f":"Tabell!$B$12","v":77},9,{"$f":"C78*19/D78+C78/10000","v":162.56325555555554}]
["H",19,{"$f":"Tabell!$B$8","v":307},37,{"$f":"C79*19/D79+C79/10000","v":157.67934864864864}]
["SP",12,{"$f":"Tabell!$B$7","v":190},23,{"$f":"C80*19/D80+C80/10000","v":156.97552173913044}]
["SANUV",6,{"$f":"Tabell!$B$10","v":89},11,{"$f":"C81*19/D81+C81/10000","v":153.73617272727273}]
["H",20,{"$f":"Tabell!$B$8","v":307},39,{"$f":"C82*19/D82+C82/10000","v":149.59480256410257}]
["SV",4,{"$f":"Tabell!$B$6","v":55},7,{"$f":"C83*19/D83+C83/10000","v":149.29121428571429}]
["SP",13,{"$f":"Tabell!$B$7","v":190},25,{"$f":"C84*19/D84+C84/10000","v":144.41900000000001}]
["Fe",8,{"$f":"Tabell!$B$11","v":114},15,{"$f":"C85*19/D85+C85/10000","v":144.41140000000001}]
["H",21,{"$f":"Tabell!$B$8","v":307},41,{"$f":"C86*19/D86+C86/10000","v":142.29899268292684}]
["H",22,{"$f":"Tabell!$B$8","v":307},43,{"$f":"C87*19/D87+C87/10000","v":135.68186279069766}]
["FrP",6,{"$f":"Tabell!$B$9","v":78},11,{"$f":"C88*19/D88+C88/10000","v":134.73507272727272}]
["SP",14,{"$f":"Tabell!$B$7","v":190},27,{"$f":"C89*19/D89+C89/10000","v":133.7227037037037}]
["V",6,{"$f":"Tabell!$B$12","v":77},11,{"$f":"C90*19/D90+C90/10000","v":133.0077}]
["SANUV",7,{"$f":"Tabell!$B$10","v":89},13,{"$f":"C91*19/D91+C91/10000","v":130.08582307692308}]
["H",23,{"$f":"Tabell!$B$8","v":307},45,{"$f":"C92*19/D92+C92/10000","v":129.65292222222223}]
["Fe",9,{"$f":"Tabell!$B$11","v":114},17,{"$f":"C93*19/D93+C93/10000","v":127.42316470588234}]
["SP",15,{"$f":"Tabell!$B$7","v":190},29,{"$f":"C94*19/D94+C94/10000","v":124.50175862068966}]
["SP",16,{"$f":"Tabell!$B$7","v":190},31,{"$f":"C95*19/D95+C95/10000","v":116.47061290322581}]
["SV",5,{"$f":"Tabell!$B$6","v":55},9,{"$f":"C96*19/D96+C96/10000","v":116.11661111111111}]
["Fe",10,{"$f":"Tabell!$B$11","v":114},19,{"$f":"C97*19/D97+C97/10000","v":114.01139999999999}]
["FrP",7,{"$f":"Tabell!$B$9","v":78},13,{"$f":"C98*19/D98+C98/10000","v":114.0078}]
["SANUV",8,{"$f":"Tabell!$B$10","v":89},15,{"$f":"C99*19/D99+C99/10000","v":112.74223333333333}]
["V",7,{"$f":"Tabell!$B$12","v":77},13,{"$f":"C100*19/D100+C100/10000","v":112.54616153846153}]
["SP",17,{"$f":"Tabell!$B$7","v":190},33,{"$f":"C101*19/D101+C101/10000","v":109.4129393939394}]
["SP",18,{"$f":"Tabell!$B$7","v":190},35,{"$f":"C102*19/D102+C102/10000","v":103.16185714285714}]
["Fe",11,{"$f":"Tabell!$B$11","v":114},21,{"$f":"C103*19/D103+C103/10000","v":103.15425714285713}]
["SANUV",9,{"$f":"Tabell!$B$10","v":89},17,{"$f":"C104*19/D104+C104/10000","v":99.479488235294113}]
["FrP",8,{"$f":"Tabell!$B$9","v":78},15,{"$f":"C105*19/D105+C105/10000","v":98.8078}]
["SP",19,{"$f":"Tabell!$B$7","v":190},37,{"$f":"C106*19/D106+C106/10000","v":97.58656756756757}]
["V",8,{"$f":"Tabell!$B$12","v":77},15,{"$f":"C107*19/D107+C107/10000","v":97.541033333333331}]
["SV",6,{"$f":"Tabell!$B$6","v":55},11,{"$f":"C108*19/D108+C108/10000","v":95.005499999999998}]
["Fe",12,{"$f":"Tabell!$B$11","v":114},23,{"$f":"C109*19/D109+C109/10000","v":94.18531304347826}]
["SP",20,{"$f":"Tabell!$B$7","v":190},39,{"$f":"C110*19/D110+C110/10000","v":92.583102564102575}]
["SANUV",10,{"$f":"Tabell!$B$10","v":89},19,{"$f":"C111*19/D111+C111/10000","v":89.008899999999997}]
["SP",21,{"$f":"Tabell!$B$7","v":190},41,{"$f":"C112*19/D112+C112/10000","v":88.067780487804882}]
["FrP",9,{"$f":"Tabell!$B$9","v":78},17,{"$f":"C113*19/D113+C113/10000","v":87.184270588235293}]
["Fe",13,{"$f":"Tabell!$B$11","v":114},25,{"$f":"C114*19/D114+C114/10000","v":86.651399999999995}]
["V",9,{"$f":"Tabell!$B$12","v":77},17,{"$f":"C115*19/D115+C115/10000","v":86.066523529411768}]
["SP",22,{"$f":"Tabell!$B$7","v":190},43,{"$f":"C116*19/D116+C116/10000","v":83.972488372093025}]
["SANUV",11,{"$f":"Tabell!$B$10","v":89},21,{"$f":"C117*19/D117+C117/10000","v":80.532709523809515}]
["SV",7,{"$f":"Tabell!$B$6","v":55},13,{"$f":"C118*19/D118+C118/10000","v":80.390115384615385}]
["SP",23,{"$f":"Tabell!$B$7","v":190},45,{"$f":"C119*19/D119+C119/10000","v":80.241222222222234}]
["Fe",14,{"$f":"Tabell!$B$11","v":114},27,{"$f":"C120*19/D120+C120/10000","v":80.233622222222223}]
["FrP",10,{"$f":"Tabell!$B$9","v":78},19,{"$f":"C121*19/D121+C121/10000","v":78.007800000000003}]
["V",10,{"$f":"Tabell!$B$12","v":77},19,{"$f":"C122*19/D122+C122/10000","v":77.0077}]
["Fe",15,{"$f":"Tabell!$B$11","v":114},29,{"$f":"C123*19/D123+C123/10000","v":74.701055172413788}]
["SANUV",12,{"$f":"Tabell!$B$10","v":89},23,{"$f":"C124*19/D124+C124/10000","v":73.530639130434778}]
["FrP",11,{"$f":"Tabell!$B$9","v":78},21,{"$f":"C125*19/D125+C125/10000","v":70.579228571428573}]
["Fe",16,{"$f":"Tabell!$B$11","v":114},31,{"$f":"C126*19/D126+C126/10000","v":69.882367741935482}]
["V",11,{"$f":"Tabell!$B$12","v":77},21,{"$f":"C127*19/D127+C127/10000","v":69.674366666666671}]
["SV",8,{"$f":"Tabell!$B$6","v":55},15,{"$f":"C128*19/D128+C128/10000","v":69.672166666666669}]
["SANUV",13,{"$f":"Tabell!$B$10","v":89},25,{"$f":"C129*19/D129+C129/10000","v":67.648899999999998}]
["Fe",17,{"$f":"Tabell!$B$11","v":114},33,{"$f":"C130*19/D130+C130/10000","v":65.647763636363635}]
["FrP",12,{"$f":"Tabell!$B$9","v":78},23,{"$f":"C131*19/D131+C131/10000","v":64.442582608695659}]
["V",12,{"$f":"Tabell!$B$12","v":77},23,{"$f":"C132*19/D132+C132/10000","v":63.616395652173914}]
["SANUV",14,{"$f":"Tabell!$B$10","v":89},27,{"$f":"C133*19/D133+C133/10000","v":62.638529629629623}]
["Fe",18,{"$f":"Tabell!$B$11","v":114},35,{"$f":"C134*19/D134+C134/10000","v":61.897114285714288}]
["SV",9,{"$f":"Tabell!$B$6","v":55},17,{"$f":"C135*19/D135+C135/10000","v":61.476088235294114}]
["FrP",13,{"$f":"Tabell!$B$9","v":78},25,{"$f":"C136*19/D136+C136/10000","v":59.287800000000004}]
["Fe",19,{"$f":"Tabell!$B$11","v":114},37,{"$f":"C137*19/D137+C137/10000","v":58.551940540540542}]
["V",13,{"$f":"Tabell!$B$12","v":77},25,{"$f":"C138*19/D138+C138/10000","v":58.527700000000003}]
["SANUV",15,{"$f":"Tabell!$B$10","v":89},29,{"$f":"C139*19/D139+C139/10000","v":58.319244827586203}]
["Fe",20,{"$f":"Tabell!$B$11","v":114},39,{"$f":"C140*19/D140+C140/10000","v":55.549861538461542}]
["SV",10,{"$f":"Tabell!$B$6","v":55},19,{"$f":"C141*19/D141+C141/10000","v":55.005499999999998}]
["FrP",14,{"$f":"Tabell!$B$9","v":78},27,{"$f":"C142*19/D142+C142/10000","v":54.896688888888889}]
["SANUV",16,{"$f":"Tabell!$B$10","v":89},31,{"$f":"C143*19/D143+C143/10000","v":54.557287096774189}]
["V",14,{"$f":"Tabell!$B$12","v":77},27,{"$f":"C144*19/D144+C144/10000","v":54.192885185185183}]
["Fe",21,{"$f":"Tabell!$B$11","v":114},41,{"$f":"C145*19/D145+C145/10000","v":52.840668292682928}]
["SANUV",17,{"$f":"Tabell!$B$10","v":89},33,{"$f":"C146*19/D146+C146/10000","v":51.251324242424239}]
["FrP",15,{"$f":"Tabell!$B$9","v":78},29,{"$f":"C147*19/D147+C147/10000","v":51.111248275862074}]
["V",15,{"$f":"Tabell!$B$12","v":77},29,{"$f":"C148*19/D148+C148/10000","v":50.455975862068968}]
["Fe",22,{"$f":"Tabell!$B$11","v":114},43,{"$f":"C149*19/D149+C149/10000","v":50.383493023255816}]
["SV",11,{"$f":"Tabell!$B$6","v":55},21,{"$f":"C150*19/D150+C150/10000","v":49.767404761904757}]
["SANUV",18,{"$f":"Tabell!$B$10","v":89},35,{"$f":"C151*19/D151+C151/10000","v":48.323185714285714}]
["Fe",23,{"$f":"Tabell!$B$11","v":114},45,{"$f":"C152*19/D152+C152/10000","v":48.144733333333335}]
["FrP",16,{"$f":"Tabell!$B$9","v":78},31,{"$f":"C153*19/D153+C153/10000","v":47.814251612903227}]
["V",16,{"$f":"Tabell!$B$12","v":77},31,{"$f":"C154*19/D154+C154/10000","v":47.201248387096776}]
["SANUV",19,{"$f":"Tabell!$B$10","v":89},37,{"$f":"C155*19/D155+C155/10000","v":45.711602702702699}]
["SV",12,{"$f":"Tabell!$B$6","v":55},23,{"$f":"C156*19/D156+C156/10000","v":45.440282608695647}]
["FrP",17,{"$f":"Tabell!$B$9","v":78},33,{"$f":"C157*19/D157+C157/10000","v":44.91689090909091}]
["V",17,{"$f":"Tabell!$B$12","v":77},33,{"$f":"C158*19/D158+C158/10000","v":44.341033333333336}]
["SANUV",20,{"$f":"Tabell!$B$10","v":89},39,{"$f":"C159*19/D159+C159/10000","v":43.367874358974355}]
["FrP",18,{"$f":"Tabell!$B$9","v":78},35,{"$f":"C160*19/D160+C160/10000","v":42.350657142857145}]
["V",18,{"$f":"Tabell!$B$12","v":77},35,{"$f":"C161*19/D161+C161/10000","v":41.807699999999997}]
["SV",13,{"$f":"Tabell!$B$6","v":55},25,{"$f":"C162*19/D162+C162/10000","v":41.805499999999995}]
["SANUV",21,{"$f":"Tabell!$B$10","v":89},41,{"$f":"C163*19/D163+C163/10000","v":41.252802439024386}]
["FrP",19,{"$f":"Tabell!$B$9","v":78},37,{"$f":"C164*19/D164+C164/10000","v":40.061854054054059}]
["V",19,{"$f":"Tabell!$B$12","v":77},37,{"$f":"C165*19/D165+C165/10000","v":39.54824054054054}]
["SANUV",22,{"$f":"Tabell!$B$10","v":89},43,{"$f":"C166*19/D166+C166/10000","v":39.334481395348831}]
["SV",14,{"$f":"Tabell!$B$6","v":55},27,{"$f":"C167*19/D167+C167/10000","v":38.7092037037037}]
["FrP",20,{"$f":"Tabell!$B$9","v":78},39,{"$f":"C168*19/D168+C168/10000","v":38.007800000000003}]
["SANUV",23,{"$f":"Tabell!$B$10","v":89},45,{"$f":"C169*19/D169+C169/10000","v":37.586677777777773}]
["V",20,{"$f":"Tabell!$B$12","v":77},39,{"$f":"C170*19/D170+C170/10000","v":37.520520512820511}]
["FrP",21,{"$f":"Tabell!$B$9","v":78},41,{"$f":"C171*19/D171+C171/10000","v":36.154141463414639}]
["SV",15,{"$f":"Tabell!$B$6","v":55},29,{"$f":"C172*19/D172+C172/10000","v":36.039982758620688}]
["V",21,{"$f":"Tabell!$B$12","v":77},41,{"$f":"C173*19/D173+C173/10000","v":35.69062682926829}]
["FrP",22,{"$f":"Tabell!$B$9","v":78},43,{"$f":"C174*19/D174+C174/10000","v":34.472916279069771}]
["V",22,{"$f":"Tabell!$B$12","v":77},43,{"$f":"C175*19/D175+C175/10000","v":34.03095581395349}]
["SV",16,{"$f":"Tabell!$B$6","v":55},31,{"$f":"C176*19/D176+C176/10000","v":33.715177419354838}]
["FrP",23,{"$f":"Tabell!$B$9","v":78},45,{"$f":"C177*19/D177+C177/10000","v":32.941133333333333}]
["V",23,{"$f":"Tabell!$B$12","v":77},45,{"$f":"C178*19/D178+C178/10000","v":32.518811111111113}]
["SV",17,{"$f":"Tabell!$B$6","v":55},33,{"$f":"C179*19/D179+C179/10000","v":31.672166666666669}]
["SV",18,{"$f":"Tabell!$B$6","v":55},35,{"$f":"C180*19/D180+C180/10000","v":29.862642857142859}]
["SV",19,{"$f":"Tabell!$B$6","v":55},37,{"$f":"C181*19/D181+C181/10000","v":28.248743243243243}]
["SV",20,{"$f":"Tabell!$B$6","v":55},39,{"$f":"C182*19/D182+C182/10000","v":26.800371794871797}]
["SV",21,{"$f":"Tabell!$B$6","v":55},41,{"$f":"C183*19/D183+C183/10000","v":25.493304878048782}]
["SV",22,{"$f":"Tabell!$B$6","v":55},43,{"$f":"C184*19/D184+C184/10000","v":24.307825581395349}]
["SV",23,{"$f":"Tabell!$B$6","v":55},45,{"$f":"C185*19/D185+C185/10000","v":23.227722222222223}]

{"sheet":"Datagrunnlag","index":2,"n_rows":42,"n_cols":21,"rows_kept":42,"cut":false,"hidden":false,"merged":[[30,15,30,16],[2,13,2,14],[2,17,2,18],[30,13,30,14],[30,17,30,18],[16,11,16,12],[16,13,16,14],[16,17,16,18],[2,1,2,2],[2,3,2,4],[2,5,2,6],[2,7,2,8],[2,9,2,10],[2,11,2,12],[16,1,16,2],[16,3,16,4],[16,5,16,6],[16,7,16,8],[16,9,16,10],[2,15,2,16],[16,15,16,16],[30,11,30,12],[30,1,30,2],[30,3,30,4],[30,5,30,6],[30,7,30,8],[30,9,30,10]]}
["Kretsvis fordeling av stemmene"]
[]
["KST","Forh.st.",null,"Tanabru",null,"Austertana",null,"Sirma",null,"Polm./All.",null,"Boftsa",null,"Polm 02",null,"Andre/sær",null,"SUM",null,"Endelig 2007"]
[2007,"R+UR",null,"R+UR",null,"R+UR",null,"R+UR",null,"R+UR",null,"R+UR",null,"R+UR",null,"R+UR",null,"R+UR"]
["Ap",103,{"$f":"B5/B$13","v":0.33660130718954251},234,{"$f":"D5/D$13","v":0.43738317757009348},18,{"$f":"F5/F$13","v":0.16822429906542055},17,{"$f":"H5/H$13","v":0.26984126984126983},26,{"$f":"J5/J$13","v":0.35135135135135137},99,{"$f":"L5/L$13","v":0.54395604395604391},34,{"$f":"N5/N$13","v":0.36559139784946237},{"$f":"+T5-R5","v":94},0.54970760233918126,{"$f":"+B5+D5+F5+H5+J5+L5+N5","v":531},{"$f":"R5/R$13","v":0.39044117647058824},625,{"$f":"T5/T$13","v":0.40822991508817769}]
["SV",10,3.2679738562091505E-2,6,1.1214953271028037E-2,0,0,2,3.1746031746031744E-2,2,2.7027027027027029E-2,12,6.5934065934065936E-2,0,0,4,2.3391812865497075E-2,{"$f":"+B6+D6+F6+H6+J6+L6+N6","v":32},2.3529411764705882E-2,36,2.3514043109079032E-2]
["Sp",22,7.1895424836601302E-2,25,4.6728971962616821E-2,2,1.8691588785046728E-2,3,4.7619047619047616E-2,2,2.7027027027027029E-2,12,6.5934065934065936E-2,5,5.3763440860215055E-2,5,2.9239766081871343E-2,71,5.2205882352941178E-2,76,4.9640757674722404E-2]
["H",33,0.10784313725490197,98,0.18317757009345795,27,0.25233644859813081,6,9.5238095238095233E-2,5,6.7567567567567571E-2,6,3.2967032967032968E-2,7,7.5268817204301078E-2,9,5.2631578947368418E-2,{"$f":"+B8+D8+F8+H8+J8+L8+N8","v":182},0.1338235294117647,191,0.12475506205094709]
["FrP",36,0.11764705882352941,52,9.719626168224299E-2,18,0.16822429906542055,0,0,8,0.10810810810810811,13,7.1428571428571425E-2,1,1.0752688172043012E-2,12,7.0175438596491224E-2,128,9.4117647058823528E-2,140,9.1443500979751791E-2]
["Sfp",27,8.8235294117647065E-2,22,4.1121495327102804E-2,0,0,14,0.22222222222222221,6,8.1081081081081086E-2,3,1.6483516483516484E-2,24,0.25806451612903225,13,7.6023391812865493E-2,{"$f":"+B10+D10+F10+H10+J10+L10+N10","v":96},7.0588235294117646E-2,109,7.1195297191378182E-2]
["TaFe",37,0.12091503267973856,54,0.10093457943925234,0,0,14,0.22222222222222221,25,0.33783783783783783,2,1.098901098901099E-2,21,0.22580645161290322,22,0.12865497076023391,153,0.1125,175,0.11430437622468975]
["VU",38,0.12418300653594772,44,8.2242990654205608E-2,42,0.3925233644859813,7,0.1111111111111111,0,0,35,0.19230769230769232,1,1.0752688172043012E-2,{"$f":"T12-R12","v":12},7.0175438596491224E-2,167,0.12279411764705882,179,0.11691704768125408]
["SUM",{"$f":"SUM(B5:B12)","v":306},{"$f":"SUM(C5:C12)","v":1},{"$f":"SUM(D5:D12)","v":535},{"$f":"SUM(E5:E12)","v":1},{"$f":"SUM(F5:F12)","v":107},1,63,1,74,1,182,0.99999999999999989,93,1,171,{"$f":"SUM(Q5:Q12)","v":0.99999999999999989},1360,1,{"$f":"SUM(T5:T12)","v":1531}]
["Blank",null,null,null,2,null,1,null,null,null,null,null,2]
[]
[]
["KST","Forh.st.",null,"Tanabru",null,"Austertana",null,"Sirma",null,"Polm./All.",null,"Boftsa",null,"Båteng",null,"Andre/sær",null,"SUM",null,"Endelig 2011"]
[2011]
["A",{"$f":"130+11","v":141},{"$f":"IF(ISNUMBER(B19),B19/B$27,\"      %\")","v":0.46381578947368424},251,{"$f":"IF(ISNUMBER(D19),D19/D$27,\"      %\")","v":0.39035769828926903},18,{"$f":"IF(ISNUMBER(F19),F19/F$27,\"      %\")","v":0.13953488372093023},19,{"$f":"IF(ISNUMBER(H19),H19/H$27,\"      %\")","v":0.31666666666666665},18,{"$f":"IF(ISNUMBER(J19),J19/J$27,\"      %\")","v":0.27692307692307694},106,{"$f":"IF(ISNUMBER(L19),L19/L$27,\"      %\")","v":0.54922279792746109},16,{"$f":"IF(ISNUMBER(N19),N19/N$27,\"      %\")","v":0.27586206896551724},12,{"$f":"P19/P$13","v":7.0175438596491224E-2},{"$f":"+B19+D19+F19+H19+J19+L19+N19+P19","v":581},{"$f":"R19/R$13","v":0.42720588235294116},{"$f":"R19","v":581},{"$f":"T19/R$27","v":0.38967136150234744}]
["SV",12,{"$f":"IF(ISNUMBER(B20),B20/B$27,\"      %\")","v":3.9473684210526314E-2},20,{"$f":"IF(ISNUMBER(D20),D20/D$27,\"      %\")","v":3.110419906687403E-2},3,2.3255813953488372E-2,2,{"$f":"IF(ISNUMBER(H20),H20/H$27,\"      %\")","v":3.3333333333333333E-2},2,3.0769230769230771E-2,15,{"$f":"IF(ISNUMBER(L20),L20/L$27,\"      %\")","v":7.7720207253886009E-2},1,1.7241379310344827E-2,null,{"$f":"P20/P$13","v":0},{"$f":"+B20+D20+F20+H20+J20+L20+N20+P20","v":55},4.0441176470588237E-2,{"$f":"R20","v":55},3.6887994634473509E-2]
["SP",45,{"$f":"IF(ISNUMBER(B21),B21/B$27,\"      %\")","v":0.14802631578947367},69,0.10730948678071539,31,0.24031007751937986,12,{"$f":"IF(ISNUMBER(H21),H21/H$27,\"      %\")","v":0.2},3,4.6153846153846156E-2,19,{"$f":"IF(ISNUMBER(L21),L21/L$27,\"      %\")","v":9.8445595854922283E-2},6,0.10344827586206896,5,{"$f":"P21/P$13","v":2.9239766081871343E-2},190,0.13970588235294118,190,0.12743125419181758]
["H",39,{"$f":"IF(ISNUMBER(B22),B22/B$27,\"      %\")","v":0.12828947368421054},176,0.27371695178849142,37,0.2868217054263566,4,{"$f":"IF(ISNUMBER(H22),H22/H$27,\"      %\")","v":6.6666666666666666E-2},6,9.2307692307692313E-2,31,{"$f":"IF(ISNUMBER(L22),L22/L$27,\"      %\")","v":0.16062176165803108},4,6.8965517241379309E-2,10,{"$f":"P22/P$13","v":5.8479532163742687E-2},307,0.22573529411764706,307,0.20590207914151576]
["FRP",15,{"$f":"IF(ISNUMBER(B23),B23/B$27,\"      %\")","v":4.9342105263157895E-2},47,7.3094867807153963E-2,7,5.4263565891472867E-2,null,{"$f":"IF(ISNUMBER(H23),H23/H$27,\"      %\")","v":"      %"},4,6.1538461538461542E-2,3,{"$f":"IF(ISNUMBER(L23),L23/L$27,\"      %\")","v":1.5544041450777202E-2},0,0,2,{"$f":"P23/P$13","v":1.1695906432748537E-2},78,5.7352941176470586E-2,78,5.2313883299798795E-2]
["SANUV",29,{"$f":"IF(ISNUMBER(B24),B24/B$27,\"      %\")","v":9.5394736842105268E-2},31,4.821150855365474E-2,4,3.1007751937984496E-2,7,{"$f":"IF(ISNUMBER(H24),H24/H$27,\"      %\")","v":0.11666666666666667},1,1.5384615384615385E-2,3,{"$f":"IF(ISNUMBER(L24),L24/L$27,\"      %\")","v":1.5544041450777202E-2},8,0.13793103448275862,6,{"$f":"P24/P$13","v":3.5087719298245612E-2},89,6.5441176470588239E-2,89,5.9691482226693494E-2]
["FE",14,{"$f":"IF(ISNUMBER(B25),B25/B$27,\"      %\")","v":4.6052631578947366E-2},36,5.5987558320373249E-2,1,7.7519379844961239E-3,8,{"$f":"IF(ISNUMBER(H25),H25/H$27,\"      %\")","v":0.13333333333333333},28,0.43076923076923079,6,{"$f":"IF(ISNUMBER(L25),L25/L$27,\"      %\")","v":3.1088082901554404E-2},18,0.31034482758620691,3,{"$f":"P25/P$13","v":1.7543859649122806E-2},114,8.38235294117647E-2,114,7.6458752515090544E-2]
["V",9,{"$f":"IF(ISNUMBER(B26),B26/B$27,\"      %\")","v":2.9605263157894735E-2},13,2.0217729393468119E-2,28,0.21705426356589147,8,{"$f":"IF(ISNUMBER(H26),H26/H$27,\"      %\")","v":0.13333333333333333},3,4.6153846153846156E-2,10,{"$f":"IF(ISNUMBER(L26),L26/L$27,\"      %\")","v":5.181347150259067E-2},5,8.6206896551724144E-2,1,{"$f":"P26/P$13","v":5.8479532163742687E-3},77,5.6617647058823529E-2,77,5.1643192488262914E-2]
["SUM",{"$f":"SUM(B19:B26)","v":304},{"$f":"SUM(C19:C26)","v":0.99999999999999989},{"$f":"SUM(D19:D26)","v":643},{"$f":"SUM(E19:E26)","v":0.99999999999999989},{"$f":"SUM(F19:F26)","v":129},1,60,1,65,1,193,1.0000000000000002,58,1,39,0.22807017543859648,1491,null,{"$f":"SUM(T19:T26)","v":1491}]
["Blank",2,null,4,null,null,null,0,null,0,null,0,null,3]
[]
[]
["KST","Forh.st.",null,"Tanabru",null,"Austertana",null,"Sirma",null,"Polm./All.",null,"Boftsa",null,"Båteng",null,"Andre/sær",null,"SUM",null,"Endelig endring"]
["ENDR","R+UR",null,"R+UR",null,"R+UR",null,"R+UR",null,"R+UR",null,"R+UR",null,"R+UR",null,"R+UR",null,"R+UR"]
["A",{"$f":"B19-B5","v":38},{"$f":"IF(ISNUMBER(C19),C19-C5,\"      %\")","v":0.12721448228414173},{"$f":"D19-D5","v":17},{"$f":"IF(ISNUMBER(E19),E19-E5,\"      %\")","v":-4.7025479280824456E-2},{"$f":"F19-F5","v":0},{"$f":"IF(ISNUMBER(G19),G19-G5,\"      %\")","v":-2.8689415344490321E-2},{"$f":"H19-H5","v":2},{"$f":"IF(ISNUMBER(I19),I19-I5,\"      %\")","v":4.6825396825396826E-2},{"$f":"J19-J5","v":-8},{"$f":"IF(ISNUMBER(K19),K19-K5,\"      %\")","v":-7.4428274428274432E-2},{"$f":"L19-L5","v":7},{"$f":"IF(ISNUMBER(M19),M19-M5,\"      %\")","v":5.2667539714171818E-3},{"$f":"N19-N5","v":-18},{"$f":"IF(ISNUMBER(O19),O19-O5,\"      %\")","v":-8.9729328883945136E-2},{"$f":"P19-P5","v":-82},{"$f":"P33/P$13","v":-0.47953216374269003},{"$f":"R19-R5","v":50},{"$f":"S19-S5","v":3.6764705882352922E-2},{"$f":"+T19-T5","v":-44},{"$f":"U19-U5","v":-1.8558553585830251E-2}]
["SV",{"$f":"B20-B6","v":2},{"$f":"IF(ISNUMBER(C20),C20-C6,\"      %\")","v":6.7939456484348085E-3},14,1.9889245795845993E-2,{"$f":"F20-F6","v":3},{"$f":"IF(ISNUMBER(G20),G20-G6,\"      %\")","v":2.3255813953488372E-2},0,1.5873015873015886E-3,{"$f":"J20-J6","v":0},{"$f":"IF(ISNUMBER(K20),K20-K6,\"      %\")","v":3.7422037422037424E-3},3,1.1786141319820073E-2,{"$f":"N20-N6","v":1},{"$f":"IF(ISNUMBER(O20),O20-O6,\"      %\")","v":1.7241379310344827E-2},{"$f":"P20-P6","v":-4},-2.3391812865497075E-2,23,{"$f":"S20-S6","v":1.6911764705882355E-2},{"$f":"+T20-T6","v":19},{"$f":"U20-U6","v":1.3373951525394476E-2}]
["SP",23,7.6130890952872371E-2,44,6.058051481809857E-2,{"$f":"F21-F7","v":29},{"$f":"IF(ISNUMBER(G21),G21-G7,\"      %\")","v":0.22161848873433312},9,0.15238095238095239,{"$f":"J21-J7","v":1},{"$f":"IF(ISNUMBER(K21),K21-K7,\"      %\")","v":1.9126819126819128E-2},7,3.2511529920856347E-2,{"$f":"N21-N7","v":1},{"$f":"IF(ISNUMBER(O21),O21-O7,\"      %\")","v":4.9684835001853909E-2},{"$f":"P21-P7","v":0},0,119,{"$f":"S21-S7","v":8.7499999999999994E-2},114,7.7790496517095187E-2]
["H",6,2.044633642930857E-2,78,9.0539381695033477E-2,{"$f":"F22-F8","v":10},{"$f":"IF(ISNUMBER(G22),G22-G8,\"      %\")","v":3.4485256828225785E-2},-2,-2.8571428571428567E-2,{"$f":"J22-J8","v":1},{"$f":"IF(ISNUMBER(K22),K22-K8,\"      %\")","v":2.4740124740124741E-2},25,0.12765472869099811,{"$f":"N22-N8","v":-3},{"$f":"IF(ISNUMBER(O22),O22-O8,\"      %\")","v":-6.3032999629217684E-3},{"$f":"P22-P8","v":1},5.8479532163742687E-3,125,{"$f":"S22-S8","v":9.1911764705882359E-2},116,8.1147017090568666E-2]
["FRP",-21,-6.8304953560371515E-2,-5,-2.4101393875089028E-2,{"$f":"F23-F9","v":-11},{"$f":"IF(ISNUMBER(G23),G23-G9,\"      %\")","v":-0.11396073317394768},0,"      %",{"$f":"J23-J9","v":-4},{"$f":"IF(ISNUMBER(K23),K23-K9,\"      %\")","v":-4.6569646569646572E-2},-10,-5.5884529977794223E-2,{"$f":"N23-N9","v":-1},{"$f":"IF(ISNUMBER(O23),O23-O9,\"      %\")","v":-1.0752688172043012E-2},{"$f":"P23-P9","v":-10},-5.8479532163742687E-2,-50,{"$f":"S23-S9","v":-3.6764705882352942E-2},-62,-3.9129617679952995E-2]
["SANUV",2,7.1594427244582037E-3,9,7.0900132265519361E-3,{"$f":"F24-F10","v":4},{"$f":"IF(ISNUMBER(G24),G24-G10,\"      %\")","v":3.1007751937984496E-2},-7,-0.10555555555555554,{"$f":"J24-J10","v":-5},{"$f":"IF(ISNUMBER(K24),K24-K10,\"      %\")","v":-6.56964656964657E-2},0,-9.3947503273928215E-4,{"$f":"N24-N10","v":-16},{"$f":"IF(ISNUMBER(O24),O24-O10,\"      %\")","v":-0.12013348164627363},{"$f":"P24-P10","v":-7},-4.0935672514619881E-2,-7,{"$f":"S24-S10","v":-5.1470588235294074E-3},-20,-1.1503814964684687E-2]
["FE",-23,-7.4862401100791204E-2,-18,-4.4947021118879091E-2,{"$f":"F25-F11","v":1},{"$f":"IF(ISNUMBER(G25),G25-G11,\"      %\")","v":7.7519379844961239E-3},-6,-8.8888888888888878E-2,{"$f":"J25-J11","v":3},{"$f":"IF(ISNUMBER(K25),K25-K11,\"      %\")","v":9.2931392931392964E-2},4,2.0099071912543412E-2,{"$f":"N25-N11","v":-3},{"$f":"IF(ISNUMBER(O25),O25-O11,\"      %\")","v":8.4538375973303687E-2},{"$f":"P25-P11","v":-19},-0.1111111111111111,-39,{"$f":"S25-S11","v":-2.8676470588235303E-2},-61,-3.7845623709599208E-2]
["V",-29,-9.4577743378052984E-2,-31,-6.2025261260737485E-2,{"$f":"F26-F12","v":-14},{"$f":"IF(ISNUMBER(G26),G26-G12,\"      %\")","v":-0.17546910092008983},1,2.2222222222222227E-2,{"$f":"J26-J12","v":3},{"$f":"IF(ISNUMBER(K26),K26-K12,\"      %\")","v":4.6153846153846156E-2},-25,-0.14049422080510166,{"$f":"N26-N12","v":4},{"$f":"IF(ISNUMBER(O26),O26-O12,\"      %\")","v":7.5454208379681129E-2},{"$f":"P26-P12","v":-11},-6.4327485380116955E-2,-90,{"$f":"S26-S12","v":-6.6176470588235281E-2},-102,-6.527385519299117E-2]
["SUM",{"$f":"SUM(B33:B40)","v":-2},{"$f":"SUM(C33:C40)","v":0},{"$f":"SUM(D33:D40)","v":108},{"$f":"SUM(E33:E40)","v":-8.3266726846886741E-17},{"$f":"SUM(F33:F40)","v":22},0,-3,2.7755575615628914E-17,-9,0,11,0,-35,0,{"$f":"SUM(P33:P40)","v":-132},-0.77192982456140369,131,9.6323529411764697E-2,{"$f":"SUM(T33:T40)","v":-40}]
["Blank"]